Workbook

Sheet ORÇAMENTO
B2: PLANILHA ORÇAMENTÁRIA GLOBAL
B4: PREFEITURA MUNICIPAL DE FLORIANO PEIXOTO/RS | I4: BDI | J4: 0.2422
B5: CONSTRUÇÃO DE UMA PONTE EM CONCRETO SOBRE O RIO APUAÊ | H5: SINAPI | I5: DATA BASE | J5: 46174
B6: Endereço: Comunidade Rio Ligeiro Alto, interior de Floriano Peixoto/RS | H6: SICRO3 | I6: DATA BASE | J6: 46113
B8: Item | C8: Código | D8: Banco | E8: Descrição | F8: Unid | G8: Quant. | H8: Valor Unit | I8: Valor Unit com BDI | J8: Total
B9: TOTAL | J9: =J10+J12+J22+J37+J70+J102 -> 1555496.2
B10: 1 | E10: SERVIÇOS TÉCNICOS | J10: =J11 -> 130132.87
B11: 1.1 | C11: Comp.01 | D11: - | E11: ADMINISTRAÇÃO DE OBRA | F11: un | G11: 1 | H11: 104760 | I11: =(H11*$J$4)+H11 -> 130132.87 | J11: =I11*G11 -> 130132.87
B12: 2 | E12: SERVIÇOS INICIAIS | J12: =SUM(J13:J21) -> 56197.471
B13: 2.1 | C13: Comp.02 | D13: - | E13: PLACA DE OBRA EM CHAPA GALVANIZADA | F13: m² | G13: 4.8 | H13: 384.97 | I13: =(H13*$J$4)+H13 -> 478.20973 | J13: =I13*G13 -> 2295.4067
B14: 2.2 | C14: 103695 | D14: SINAPI | E14: FORNECIMENTO E INSTALAÇÃO DE SUPORTE DE MADEIRA PARA PLACAS DE SINALIZAÇÃO, EM SOLO, COM H= DE 2,0 M E SEÇÃO DE 7,5 X 7,5 CM | F14: un | G14: 3 | H14: 101.44 | I14: =(H14*$J$4)+H14 -> 126.00877 | J14: =I14*G14 -> 378.0263
B15: 2.3 | C15: 10776 | D15: SINAPI-I | E15: LOCACAO DE CONTAINER 2,30 X 6,00 M, ALT. 2,50 M, PARA ESCRITORIO, SEM DIVISORIAS INTERNAS E SEM SANITARIO (NAO INCLUI MOBILIZACAO/DESMOBILIZACAO) | F15: mês | G15: 6 | H15: 908.2 | I15: =(H15*$J$4)+H15 -> 1128.166 | J15: =I15*G15 -> 6768.9962
B16: 2.4 | C16: 10775 | D16: SINAPI-I | E16: LOCACAO DE CONTAINER 2,30 X 6,00 M, ALT. 2,50 M, PARA ESCRITORIO, SEM DIVISORIAS INTERNAS COM SANITARIO (NAO INCLUI MOBILIZACAO/DESMOBILIZACAO) | F16: mês | G16: 6 | H16: 1162.5 | I16: =(H16*$J$4)+H16 -> 1444.0575 | J16: =I16*G16 -> 8664.345
B17: 2.5 | C17: 100948 | D17: SINAPI | E17: TRANSPORTE COM CAMINHÃO CARROCERIA 9T, EM VIA URBANA PAVIMENTADA, ADICIONAL PARA DMT EXCEDENTE A 30 KM | F17: TxKm | G17: =48*2*12 -> 1152 | H17: 0.98 | I17: =(H17*$J$4)+H17 -> 1.217356 | J17: =I17*G17 -> 1402.3941
B18: 2.6 | C18: 100945 | D18: SINAPI | E18: TRANSPORTE COM CAMINHÃO CARROCERIA 9T, EM LEITO NATURAL | F18: TxKm | G18: =24*2*12 -> 576 | H18: 3.69 | I18: =(H18*$J$4)+H18 -> 4.583718 | J18: =I18*G18 -> 2640.2216
B19: 2.7 | C19: 93421 | D19: SINAPI | E19: GRUPO GERADOR REBOCÁVEL, POTÊNCIA 66 KVA, MOTOR A DIESEL | F19: CHP | G19: 240 | H19: 85.57 | I19: =(H19*$J$4)+H19 -> 106.29505 | J19: =I19*G19 -> 25510.813
B20: 2.8 | C20: 99059 | D20: SINAPI | E20: LOCAÇÃO CONVENCIONAL DE OBRA, UTILIZANDO GABARITO DE TÁBUAS CORRIDAS PONTALEADAS A CADA 2,00 M | F20: M | G20: =72+14 -> 86 | H20: 66.57 | I20: =(H20*$J$4)+H20 -> 82.693254 | J20: =I20*G20 -> 7111.6198
B21: 2.9 | C21: 90781 | D21: SINAPI | E21: TOPOGRAFO COM ENCARGOS COMPLEMENTARES | F21: H | G21: 24 | H21: 47.82 | I21: =(H21*$J$4)+H21 -> 59.402004 | J21: =I21*G21 -> 1425.6481
B22: 3 | E22: INFRAESTRUTURA | J22: =J23 -> 226001.98
B23: 3.1 | E23: FUNDAÇÕES | J23: =SUM(J24:J36) -> 226001.98
B24: 3.1.1 | C24: 96523 | D24: SINAPI | E24: ESCAVAÇÃO MANUAL PARA BLOCO DE COROAMENTO OU SAPATA (INCLUINDO ESCAVAÇÃO PARA COLOCAÇÃO DE FÔRMAS | F24: m3 | G24: =4*3.1415*2 -> 25.132 | H24: 106.4 | I24: =(H24*$J$4)+H24 -> 132.17008 | J24: =I24*G24 -> 3321.6985
B25: 3.1.2 | C25: Comp.06 | D25: - | E25: ENSECADEIRAS DE MADEIRA | F25: m2 | G25: =36*1.5 -> 54 | H25: 298.8 | I25: =(H25*$J$4)+H25 -> 371.16936 | J25: =I25*G25 -> 20043.145
B26: 3.1.3 | C26: Comp.07 | D26: - | E26: ENSECADEIRAS DE CONCRETO ARMADO | F26: m2 | G26: =36*1 -> 36 | H26: 393.28 | I26: =(H26*$J$4)+H26 -> 488.53242 | J26: =I26*G26 -> 17587.167
B27: 3.1.4 | C27: 4085 | D27: SINAPI-I | E27: LOCACAO DE BOMBA SUBMERSIVEL PARA DRENAGEM E ESGOTAMENTO, MOTOR ELETRICO TRIFASICO, POTENCIA DE 4 CV, DIAMETRO DE RECALQUE DE 3" | F27: H | G27: 160 | H27: 2.8 | I27: =(H27*$J$4)+H27 -> 3.47816 | J27: =I27*G27 -> 556.5056
B28: 3.1.5 | C28: 105916 | D28: SINAPI | E28: MARTELO PERFURADOR PNEUMÁTICO MANUAL, HASTE 19 X 108 MM, 11 KG - CHP DIURNO. | F28: CHP | G28: 80 | H28: 32.21 | I28: =(H28*$J$4)+H28 -> 40.011262 | J28: =I28*G28 -> 3200.901
B29: 3.1.6 | C29: 92764 | D29: SINAPI | E29: ARMAÇÃO DE PILAR OU VIGA DE ESTRUTURA CONVENCIONAL DE CONCRETO ARMADO UTILIZANDO AÇO CA-50 DE 16,0 MM - MONTAGEM | F29: kg | G29: =(8*4*2.5+(15*2*2))/12*18.93 -> 220.85 | H29: 8.58 | I29: =(H29*$J$4)+H29 -> 10.658076 | J29: =I29*G29 -> 2353.8361
B30: 3.1.7 | C30: 92761 | D30: SINAPI | E30: ARMAÇÃO DE PILAR OU VIGA DE ESTRUTURA CONVENCIONAL DE CONCRETO ARMADO UTILIZANDO AÇO CA-50 DE 8,0 MM - MONTAGEM | F30: kg | G30: =((30*15*2))/12*4.74*1.1 -> 391.05 | H30: 12.02 | I30: =(H30*$J$4)+H30 -> 14.931244 | J30: =I30*G30 -> 5838.863
B31: 3.1.8 | C31: 92762 | D31: SINAPI | E31: ARMAÇÃO DE PILAR OU VIGA DE ESTRUTURA CONVENCIONAL DE CONCRETO ARMADO UTILIZANDO AÇO CA-60 DE 10,0 MM - MONTAGEM. | F31: Kg | G31: =(5.7*20*2*4)/12*7.4*1.1 -> 618.64 | H31: 10.65 | I31: =(H31*$J$4)+H31 -> 13.22943 | J31: =I31*G31 -> 8184.2546
B32: 3.1.9 | C32: 92763 | D32: SINAPI | E32: ARMAÇÃO DE PILAR OU VIGA DE ESTRUTURA CONVENCIONAL DE CONCRETO ARMADO UTILIZANDO AÇO CA-60 DE 12,5 MM - MONTAGEM. | F32: Kg | G32: =((7.2*150*2))/12*11.55*1.1 -> 2286.9 | H32: 8.91 | I32: =(H32*$J$4)+H32 -> 11.068002 | J32: =I32*G32 -> 25311.414
B33: 3.1.10 | C33: 96558 | D33: SINAPI | E33: CONCRETAGEM FCK 30 MPA, COM USO DE BOMBA - LANÇAMENTO, ADENSAMENTO E ACABAMENTO | F33: m³ | G33: =(3.1415*4*2)+(3*0.8*15*2) -> 97.132 | H33: 904.08 | I33: =(H33*$J$4)+H33 -> 1123.0482 | J33: =I33*G33 -> 109083.92
B34: 3.1.11 | C34: 5909007 | D34: SICRO3 | E34: Carga, manobra e descarga de concreto com caminhão betoneira - carga em central de concreto de 30 m³/h e descarga livre | F34: t | G34: =G33*2.5 -> 242.83 | H34: 25.1 | I34: =(H34*$J$4)+H34 -> 31.17922 | J34: =I34*G34 -> 7571.25
B35: 3.1.12 | C35: 5914539 | D35: SICRO3 | E35: Transporte com caminhão betoneira - rodovia em leito natural | F35: tkm | G35: =(G33*2.5)*24 -> 5827.92 | H35: 1.37 | I35: =(H35*$J$4)+H35 -> 1.701814 | J35: =I35*G35 -> 9918.0358
B36: 3.1.13 | C36: 5914569 | D36: SICRO3 | E36: Transporte com caminhão betoneira - rodovia pavimentada | F36: tkm | G36: =(G33*2.5)*48 -> 11655.84 | H36: 0.9 | I36: =(H36*$J$4)+H36 -> 1.11798 | J36: =I36*G36 -> 13030.996
B37: 4 | E37: MESOESTRUTURA | J37: =J38+J59+J48 -> 497677.07
B38: 4.1 | E38: PILARES DE CONCRETO ARMADO | J38: =SUM(J39:J47) -> 46104.194
B39: 4.1.1 | C39: 92264 | D39: SINAPI | E39: FABRICAÇÃO DE FÔRMA PARA PILARES, EM CHAPA DE MADEIRA COMPENSADA PLASTIFICADA, E = 18 MM | F39: m² | G39: =(0.7*3.1415)*4*4 -> 35.1848 | H39: 237.3 | I39: =(H39*$J$4)+H39 -> 294.77406 | J39: =I39*G39 -> 10371.566
B40: 4.1.2 | C40: 92447 | D40: SINAPI | E40: MONTAGEM E DESMONTAGEM DE FÔRMA DE VIGA, ESCORAMENTO COM PONTALETE DE MADEIRA, EM MADEIRA SERRADA, 2 UTILIZAÇÕES | F40: m² | G40: =G39 -> 35.1848 | H40: 212.5 | I40: =(H40*$J$4)+H40 -> 263.9675 | J40: =I40*G40 -> 9287.6437
B41: 4.1.3 | C41: 92764 | D41: SINAPI | E41: ARMAÇÃO DE PILAR OU VIGA DE ESTRUTURA CONVENCIONAL DE CONCRETO ARMADO UTILIZANDO AÇO CA-60 DE 16,0 MM - MONTAGEM. | F41: Kg | G41: =((16*9.4*4)/12*18.93) -> 949.024 | H41: 8.58 | I41: =(H41*$J$4)+H41 -> 10.658076 | J41: =I41*G41 -> 10114.77
B42: 4.1.4 | C42: 92760 | D42: SINAPI | E42: ARMAÇÃO DE PILAR OU VIGA DE ESTRUTURA CONVENCIONAL DE CONCRETO ARMADO UTILIZANDO AÇO CA-50 DE 6,3 MM - MONTAGEM | F42: kg | G42: =((88*2.1*4))/12*2.94 -> 181.104 | H42: 12.95 | I42: =(H42*$J$4)+H42 -> 16.08649 | J42: =I42*G42 -> 2913.3277
B43: 4.1.5 | C43: 96558 | D43: SINAPI | E43: CONCRETAGEM FCK 30 MPA, COM USO DE BOMBA - LANÇAMENTO, ADENSAMENTO E ACABAMENTO | F43: m³ | G43: =(3.1415*0.7*0.7/4)*4*4 -> 6.15734 | H43: 904.08 | I43: =(H43*$J$4)+H43 -> 1123.0482 | J43: =I43*G43 -> 6914.9895
...

Sheet CRONOGRAMA
B2: CRONOGRAMA FÍSICO FINANCEIRO
B4: PREFEITURA MUNICIPAL DE FLORIANO PEIXOTO/RS
B5: CONSTRUÇÃO UMA PONTE EM CONCRETO ARMADO SOBRE O RIO APUAÊ, COM. RIO LIGEIRO ALTO
B7: CRONOGRAMA FÍSICO FINANCEIRO
B8: PREFEITURA MUNICIPAL DE FLORIANO PEIXOTO/RS
B9: Ponte sobre o Rio Apuaê 36,00 x 7,00 m
B10: ITEM | C10: DESCRIÇÃO | D10: TOTAIS | E10: ETAPA 1 | F10: ETAPA 2 | G10: ETAPA 3 | H10: ETAPA 4 | I10: ETAPA 5 | J10: ETAPA 6
B11: 1 | C11: SERVIÇOS TÉCNICOS | D11: =ORÇAMENTO!J10 -> 130132.87 | E11: =D11*0.2 -> 26026.574 | F11: =D11*0.2 -> 26026.574 | G11: =D11*0.2 -> 26026.574 | H11: =D11*0.1 -> 13013.287 | I11: =D11*0.1 -> 13013.287 | J11: =D11*0.2 -> 26026.574
B12: 2 | C12: SERVIÇOS INICIAIS | D12: =ORÇAMENTO!J12 -> 56197.471 | E12: =D12*0.5 -> 28098.735 | F12: =D12*0.1 -> 5619.7471 | G12: =D12*0.1 -> 5619.7471 | H12: =D12*0.1 -> 5619.7471 | I12: =D12*0.1 -> 5619.7471 | J12: =D12*0.1 -> 5619.7471
B13: 3 | C13: =ORÇAMENTO!E22 -> INFRAESTRUTURA | D13: =ORÇAMENTO!J22 -> 226001.98 | E13: =D13*1 -> 226001.98
B14: 4 | C14: MESOESTRUTURA | D14: =ORÇAMENTO!J37 -> 497677.07 | F14: =D14*0.7 -> 348373.95 | G14: =D14*0.3 -> 149303.12
B15: 5 | C15: SUPERESTRUTURA | D15: =ORÇAMENTO!J70 -> 594752.01 | H15: =D15*0.4 -> 237900.8 | I15: =D15*0.4 -> 237900.8 | J15: =D15*0.2 -> 118950.4
B16: 6 | C16: ACABAMENTOS E OBRAS COMPLEMENTARES | D16: =ORÇAMENTO!J102 -> 50734.807 | J16: =D16 -> 50734.807
C17: TOTAL | D17: =SUM(D11:D16) -> 1555496.2 | E17: =SUM(E11:E16) -> 280127.29 | F17: =SUM(F11:F16) -> 380020.27 | G17: =SUM(G11:G16) -> 180949.44 | H17: =SUM(H11:H16) -> 256533.84 | I17: =SUM(I11:I16) -> 256533.84 | J17: =SUM(J11:J16) -> 201331.53
C18: % | D18: =SUM(E18:J18) -> 1 | E18: =E17/D17 -> 0.1800887 | F18: =F17/D17 -> 0.24430807 | G18: =G17/D17 -> 0.11632908 | H18: =H17/D17 -> 0.1649209 | I18: =I17/D17 -> 0.1649209 | J18: =J17/D17 -> 0.12943235
B20: Floriano Peixoto/RS, 24 de julho de 2026.
F25: Angelica Gasparetto Sandri
F26: Engenheira Civil
F27: CREA RS 215.874

Sheet DMT
B2: PREFEITURA MUNICIPAL DE FLORIANO PEIXOTO/RS
B3: CONSTRUÇÃO UMA PONTE EM CONCRETO ARMADO
B5: DMT - Distâncias Médias de Transporte
B7: Transporte de concreto | C7: Tipo Rodovia | D7: km
B8: Erechim à Floriano Peixoto/RS | C8: Pavimentada | D8: 48
B9: Distância de Floriano Peixoto/RS até a Ponte do Rio Apuaê | C9: Leito Natural | D9: 24
B11: Transporte vigas longarinas e das Lajes pré-moldadas | C11: Tipo Rodovia | D11: km
B12: Distância média dos grandes centros (Erechim/RS, Passo Fundo/RS e Chapecó/SC) a Floriano Peixoto/RS | C12: Pavimentada | D12: 85
B13: Distância de Floriano Peixoto/RS até a Ponte do Rio Apuaê | C13: Leito Natural | D13: 24
B16: Floriano Peixoto/RS, 03 de outubro de 2025.
C22: Angelica Gasparetto Sandri
C23: Engenheira Civil
C24: CREA RS 215.874

Sheet BDI
B2: DETALHAMENTO DO BDI
B3: TOMADOR: PREFEITURA MUNICIPAL DE FLORIANO PEIXOTO/RS
B4: OBRA: CONSTRUÇÃO DE UMA PONTE DE CONCRETO ARMADO SOBRE O RIO APUÂE, COM. RIO LIGEIRO
B5: MUNICÍPIO: FLORIANO PEIXOTO/RS
B7: Conforme legislação tributária municipal, definir estimativa de percentual da base de cálculo para o ISS: | I7: 1
B8: Sobre a base de cálculo, definir a respectiva alíquota do ISS (entre 2% e 5%) | I8: 0.05
B10: PARCELAS DO BDI | D10: VALORES PERCENTUAIS ADOTADOS | G10: LIMITES DAS PARCELAS DO BDI PARA OBRAS DESTE TIPO. ACÓRDÃO TCU 2622/2013
G11: Min. | H11: Med. | I11: Máx.
B12: (AC) - Administração Central | D12: 0.039 | G12: 3.8 | H12: 4.01 | I12: 4.67
B13: (R) - Riscos | D13: 0.0045 | G13: 0.32 | H13: 0.4 | I13: 0.74
B14: (S) + (G) - Seguro e Garantia | D14: 0.006 | G14: 0.5 | H14: 0.56 | I14: 0.97
B15: (DF) - Despesas Financeiras | D15: 0.0105 | G15: 1.02 | H15: 1.11 | I15: 1.21
B16: (L) - Lucro | D16: 0.07 | G16: 6.64 | H16: 7.3 | I16: 8.69
B17: (I1) - PIS | D17: 0.0065 | G17: 0.65 | H17: 0.65 | I17: 0.65
B18: (I2) - COFINS | D18: 0.03 | G18: 3 | H18: 3 | I18: 3
B19: (I2) - ISS | D19: =I8*I7 -> 0.05 | G19: 2 | H19: 2 | I19: 5
B20: (I4) - Contribuição Previdenciária) | D20: 0
B21: BDI % = | D21: =ROUND((((1+D12+D13+D14)*(1+D15)*(1+D16))/(1-D17-D18-D19-D20))-1,4) -> 0.2422
B23: VALOR PARA SIMPLES CONFERÊNCIA DO ENQUADRAMENTO DO BDI NOS LIMITES ESTABELECIDOS PELO ACÓRDÃO TCU 2622/2013 | G23: LIMITES DAS PARCELAS DO BDI PARA OBRAS DESTE TIPO. ACÓRDÃO TCU 2622/2013
B24: BDI desconsiderando a parcela (I4) contribuição previdenciária | D24: =ROUND((((1+D12+D13+D14)*(1+D15)*(1+D16))/(1-D17-D18-D19))-1,4) -> 0.2422 | G24: 19.6 | H24: 20.97 | I24: 24.23
B26: DECLARAÇÕES
B27: DECLARO que, de acordo com a legislação tributária do municipio de FLORIANO PEIXOTO - RS, considerando a natureza da obra acima discriminada, para cálculo do valor de ISS a ser cobrado da empresa construtora, é aplicada a aliquota de 5% sobre o valor total da obra.
B28: DECLARO que o percentual de encargos sociais utilizados no valor da mão-de-obra do orçamento são os encargos sociais praticados pelo SINAPI e/ou SICRO.
B29: DECLARO que o orçamento da obra foi verificado com os custos nas duas possibilidades de CONTRIBUIÇÃO PREVIDENCIÁRIA e foi adotado a modalidade SEM DESONERAÇÃO por ser a mais adequada ao Tomador PREFEITURA MUNICIPAL DE FLORIANO PEIXOTO - RS.
B31: Floriano Peixoto/RS, 24 de julho de 2026.
F41: Angelica Gasparetto Sandri
F42: Engenheira Civil
F43: CREA RS 215.874

Sheet COMP. 
B1: COMPOSIÇÃO PRÓPRIA
B3: PREFEITURA MUNICIPAL DE FLORIANO PEIXOTO/RS
B4: CONSTRUÇÃO DE UMA PONTE EM CONCRETO ARMADO SOBRE O RIO APUAE, COM. RIO LIGEIRO ALTO
B6: CODIGO DA COMPOSICAO: | D6: COMP.01 | E6: DATA-BASE: | F6: 46174
B7: DESCRICAO DA COMPOSICAO: | D7: ADMINISTRAÇÃO DE OBRA
B8: UNIDADE: | D8: unidade
B9: Composição: | C9: CÓDIGO | D9: DESCRIÇÃO ITEM | E9: UNIDADE ITEM | F9: COEFICIENTE | G9: PRECO UNITARIO | H9: CUSTO TOTAL
B10: Composição | C10: 90778 | D10: ENGENHEIRO CIVIL DE OBRA PLENO COM ENCARGOS COMPLEMENTARES | E10: H | F10: 130 | G10: 145 | H10: =G10*F10 -> 18850
B11: Composição | C11: 93572 | D11: ENCARREGADO GERAL DE OBRAS COM ENCARGOS COMPLEMENTARES | E11: MÊS | F11: 6 | G11: 13405 | H11: =G11*F11 -> 80430
B12: Composição | C12: 90766 | D12: ALMOXARIFE COM ENCARGOS COMPLEMENTARES | E12: H | F12: 120 | G12: 31.5 | H12: =G12*F12 -> 3780
B13: Composição | C13: 90775 | D13: DESENHISTA PROJETISTA COM ENCARGOS COMPLEMENTARES | E13: H | F13: 40 | G13: 42.5 | H13: =G13*F13 -> 1700
G14: VALOR TOTAL | H14: =SUM(H10:H13) -> 104760
B16: CODIGO DA COMPOSICAO: | D16: COMP.02 | E16: DATA-BASE: | F16: 46174
B17: DESCRICAO DA COMPOSICAO: | D17: PLACA DE OBRA EM CHAPA GALVANIZADA
B18: UNIDADE: | D18: m²
B19: Composição: | C19: CÓDIGO | D19: DESCRIÇÃO ITEM | E19: UNIDADE ITEM | F19: COEFICIENTE | G19: PRECO UNITARIO | H19: CUSTO TOTAL
B20: Insumo | C20: 4417 | D20: SARRAFO DE MADEIRA 2,5x7 cm | E20: M | F20: 1 | G20: 7.4 | H20: =G20*F20 -> 7.4
B21: Insumo | C21: 4433 | D21: CAIBRO 7,5x7,5 cm | E21: M | F21: 4 | G21: 26.7 | H21: =G21*F21 -> 106.8
B22: Insumo | C22: 4813 | D22: PLACA DE OBRA EM CHAPA GALVANIZADA N 22 | E22: M² | F22: 1 | G22: 230 | H22: =G22*F22 -> 230
B23: Insumo | C23: 5075 | D23: PREÇO DE AÇO 18x30 | E23: KG | F23: 0.1 | G23: 14.7 | H23: =G23*F23 -> 1.47
B24: Composição | C24: 88262 | D24: CARPINTEIRO | E24: H | F24: 0.5 | G24: 29 | H24: =G24*F24 -> 14.5
B25: Composição | C25: 88316 | D25: SERVENTE | E25: H | F25: 1 | G25: 24.8 | H25: =G25*F25 -> 24.8
G26: VALOR TOTAL | H26: =SUM(H20:H25) -> 384.97
B28: CODIGO DA COMPOSICAO: | D28: COMP.03 | E28: DATA-BASE: | F28: 46174
B29: DESCRICAO DA COMPOSICAO: | D29: LONGARINA DE CONCRETO ARMADO PRÉ-MOLDADO 0,25x0,70
B30: UNIDADE: | D30: m
B31: Composição: | C31: CÓDIGO | D31: DESCRIÇÃO ITEM | E31: UNIDADE ITEM | F31: COEFICIENTE | G31: PRECO UNITARIO | H31: CUSTO TOTAL
B32: Composição | C32: 92265 | D32: FABRICAÇÃO DE FORMA PARA VIGAS, EM CHAPA DE MADEIRA COMPENSADA RESINA E= 17 MM | E32: M² | F32: =(0.25+0.7+0.7)*1.05 -> 1.7325 | G32: 135 | H32: =G32*F32 -> 233.8875
B33: Composição | C33: 92760 | D33: ARMAÇÃO DE PILAR OU VIGA DE ESTRUTURA CONVENCIONAL DE CONCRETO ARMADO UTILIZANDO AÇO CA-50 DE 6,3 MM - MONTAGEM | E33: KG | F33: 8.46 | G33: 12.95 | H33: =G33*F33 -> 109.557
B34: Composição | C34: 92764 | D34: ARMAÇÃO DE PILAR OU VIGA DE ESTRUTURA CONVENCIONAL DE CONCRETO ARMADO UTILIZANDO AÇO CA-50 DE 16,0 MM - MONTAGEM | E34: KG | F34: 13.88 | G34: 8.58 | H34: =G34*F34 -> 119.0904
B35: Composição | C35: 92763 | D35: ARMAÇÃO DE PILAR OU VIGA DE ESTRUTURA CONVENCIONAL DE CONCRETO ARMADO UTILIZANDO AÇO CA-50 DE 12,5 MM - MONTAGEM | E35: KG | F35: 4.23 | G35: 8.91 | H35: =G35*F35 -> 37.6893
B36: Composição | C36: 92766 | D36: ARMAÇÃO DE PILAR OU VIGA DE ESTRUTURA CONVENCIONAL DE CONCRETO ARMADO UTILIZANDO AÇO CA-50 DE 25,0 MM - MONTAGEM | E36: KG | F36: 33.9 | G36: 9.62 | H36: =G36*F36 -> 326.118
B37: Composição | C37: 91602 | D37: ARMAÇÃO DE PILAR OU VIGA DE ESTRUTURA CONVENCIONAL DE CONCRETO ARMADO UTILIZANDO AÇO CA-50 DE 8,0 MM - MONTAGEM | E37: KG | F37: 1.74 | G37: 10.95 | H37: =G37*F37 -> 19.053
B38: Composição | C38: 94967 | D38: CONCRETO FCK 40 MPA, TRAÇO: 1:1,6:1,9, PREPARO MECÂNICO EM BETONEIRA | E38: M³ | F38: 0.15 | G38: 700.62 | H38: =G38*F38 -> 105.093
B39: Composição | C39: 103670 | D39: LANÇAMENTO COM USO DE BALDES, ADENSAMENTO E ACABAMENTO DE CONCRETO EM ESTRUTURAS | E39: M³ | F39: 0.15 | G39: 330.9 | H39: =G39*F39 -> 49.635
G40: VALOR TOTAL | H40: =SUM(H32:H39) -> 1000.1232
B43: CODIGO DA COMPOSICAO: | D43: COMP.04 | E43: DATA-BASE: | F43: 46174
B44: DESCRICAO DA COMPOSICAO: | D44: PLACAS TRELICADAS PRÉ-MOLDADAS PARA PONTE
B45: UNIDADE: | D45: m²
B46: Composição: | C46: CÓDIGO | D46: DESCRIÇÃO ITEM | E46: UNIDADE ITEM | F46: COEFICIENTE | G46: PRECO UNITARIO | H46: CUSTO TOTAL
...

Sheet Planilha1
A2: Ponte sobre o Rio Apuâe - Comunidade Rio Ligeiro Alto
A4: INFRAESTRUTURA
A6: FUNDAÇÕES
A8: Descrição | B8: Comprimento | C8: Largura | D8: Altura | E8: Quantidade | F8: Total
B9: (m) | C9: (m) | D9: (m)
A10: Escavação (m³) | B10: 3.1415 | D10: 2 | E10: 4 | F10: =B10*D10*E10 -> 25.132
A11: Ensecadeira de madeira | B11: 36 | D11: 1.5 | F11: =B11*D11 -> 54
A12: Ensecadeira de concreto | B12: 36 | D12: 1 | F12: =B12*D12 -> 36
A13: Armação 16 mm (Kg) | B13: 2.5 | E13: 32 | F13: =(E13*B13*1.578)-0.07 -> 126.17
B14: 2 | E14: 30 | F14: =(E14*B14*1.578) -> 94.68 | G14: * peso/metro de 1,578 Kg
A15: Armação 8 mm (Kg) | B15: 15 | E15: 60 | F15: =E15*B15*0.395*1.1 -> 391.05
G16: * peso/metro de 0,395 Kg
A17: Armação 10 mm (Kg) | B17: 5.7 | E17: 160 | F17: =E17*B17*0.617*1.1-0.33 -> 618.6444 | G17: * peso/metro de 0,617 Kg
A18: Armação 12,5 mm (Kg) | B18: 7.2 | E18: 300 | F18: =E18*B18*0.963*1.1-1.19 -> 2286.898 | G18: * peso/metro de 0,963 Kg
A19: Concreto (m³) | B19: 3.1415 | D19: 2 | E19: 4 | F19: =D19*B19*E19 -> 25.132
B20: 15 | C20: 3 | D20: 0.8 | E20: 2 | F20: =D20*B20*E20*C20 -> 72
A21: Carga e Descarga (T) | E21: =F19+F20 -> 97.132 | F21: =E21*2.5 -> 242.83 | G21: * peso de 2,5 t/m³
A22: Trasnporte rodovia natural | B22: 24 | E22: =F21 -> 242.83 | F22: =E22*B22 -> 5827.92 | G22: *DMT de 24 Km
A23: Trasnporte rodovia pav | B23: 48 | E23: =F21 -> 242.83 | F23: =E23*B23 -> 11655.84 | G23: *DMT de 48 Km
A25: MESOESTRUTURA
A27: PILARES
A29: Descrição | B29: Comprimento | C29: Largura | D29: Altura | E29: Quantidade | F29: Total
B30: (m) | C30: (m) | D30: (m)
A31: Fabricação de forma (m²) | B31: 3.1415 | C31: 0.7 | D31: 4 | E31: 4 | F31: =B31*D31*E31*C31 -> 35.1848
A32: Montagem de forma (m²) | B32: 3.1415 | C32: 0.7 | D32: 4 | E32: 4 | F32: =B32*D32*E32 -> 50.264
A33: Armação 16 mm (Kg) | B33: 9.4 | E33: 64 | F33: =(E33*B33*1.578)-0.3 -> 949.0248 | G33: * peso/metro de 1,578 Kg
A34: Armação 6,3 mm (Kg) | B34: 2.1 | E34: 352 | F34: =E34*B34*0.245 -> 181.104 | G34: * peso/metro de 0,245 Kg
A35: Concreto (m³) | B35: =3.1415*0.7*0.7/4 -> 0.38483375 | D35: 4 | E35: 4 | F35: =B35*D35*E35 -> 6.15734
A36: Carga e Descarga (T) | E36: =F35 -> 6.15734 | F36: =E36*2.5 -> 15.39335 | G36: * peso de 2,5 t/m³
A37: Trasnporte rodovia natural | B37: 24 | E37: =F36 -> 15.39335 | F37: =E37*B37 -> 369.4404 | G37: *DMT de 24 Km
A38: Trasnporte rodovia pav | B38: 48 | E38: =F36 -> 15.39335 | F38: =E38*B38 -> 738.8808 | G38: *DMT de 48 Km
A39: Plataforma | B39: 7 | C39: 0.3 | D39: 6 | E39: 4 | F39: =B39*C39*D39*E39 -> 50.4
A41: VIGAS
A43: Descrição | B43: Comprimento | C43: Largura | D43: Altura | E43: Quantidade | F43: Total
B44: (m) | C44: (m) | D44: (m)
A45: Fabricação de forma (m²) | B45: 7 | C45: 0.7 | E45: 4 | F45: =B45*E45*C45 -> 19.6
B46: 0.7 | C46: 0.7 | E46: 4 | F46: =B46*E46*C46 -> 1.96
B47: 7 | C47: 1.3 | E47: 4 | F47: =B47*E47*C47 -> 36.4
B48: 1.3 | C48: 0.7 | E48: 4 | F48: =B48*E48*C48 -> 3.64
A49: Montagem de forma (m²) | F49: =F45+F46+F47+F48 -> 61.6
...
